BEGIN:VCALENDAR
VERSION:2.0
PRODID:icalendar-ruby
CALSCALE:GREGORIAN
METHOD:PUBLISH
BEGIN:VEVENT
DTSTAMP:20260422T115337Z
UID:112-1694177@stmarysanglicanponoka.ca
DTSTART:20260516T220000Z
DTEND:20260517T020000Z
CLASS:PUBLIC
CREATED:20260421T090435
DESCRIPTION:Join us for a fun night of family games and Pizza!
LAST-MODIFIED:20260421T090435
LOCATION:St. Mary's Anglican Church
SUMMARY:Pizza and Game Night
URL;VALUE=URI:https://www.stmarysanglicanponoka.ca/events/pizza-and-game-ni
 ght/2026-05-16
ATTACH;FILENAME=Pizza & Game Night (1).png;FMTTYPE=image/png:https://dq5pwp
 g1q8ru0.cloudfront.net/2026/04/21/15/04/35/66a7028e-ce43-4580-91bb-fcb39be
 d568e/Pizza%20&%20Game%20Night%20(1).png
END:VEVENT
END:VCALENDAR
